{
 "currentVersion": 10.3,
 "serviceDescription": "",
 "name": "APLICACIONES/MEX_RE_2015_17clases",
 "description": "APLICACIONES/MEX_RE_2015_17clases",
 "extent": {
  "xmin": 1054033.53610002,
  "ymin": 319145.6816790072,
  "xmax": 4082998.1855434477,
  "ymax": 2349617.3716,
  "spatialReference": {
   "wkt": "PROJCS[\"Lambert_Conformal_Conic_2SP\",GEOGCS[\"GCS_WGS_1984\",DATUM[\"D_WGS_1984\",SPHEROID[\"WGS_1984\",6378137.0,298.257223563]],PRIMEM[\"Greenwich\",0.0],UNIT[\"Degree\",0.0174532925199433]],PROJECTION[\"Lambert_Conformal_Conic\"],PARAMETER[\"false_easting\",2500000.0],PARAMETER[\"false_northing\",0.0],PARAMETER[\"central_meridian\",-102.0],PARAMETER[\"standard_parallel_1\",17.5],PARAMETER[\"standard_parallel_2\",29.5],PARAMETER[\"latitude_of_origin\",12.0],UNIT[\"Meter\",1.0]]"
  }
 },
 "initialExtent": {
  "xmin": 1054033.53610002,
  "ymin": 319145.6816790072,
  "xmax": 4082998.1855434477,
  "ymax": 2349617.3716,
  "spatialReference": {
   "wkt": "PROJCS[\"Lambert_Conformal_Conic_2SP\",GEOGCS[\"GCS_WGS_1984\",DATUM[\"D_WGS_1984\",SPHEROID[\"WGS_1984\",6378137.0,298.257223563]],PRIMEM[\"Greenwich\",0.0],UNIT[\"Degree\",0.0174532925199433]],PROJECTION[\"Lambert_Conformal_Conic\"],PARAMETER[\"false_easting\",2500000.0],PARAMETER[\"false_northing\",0.0],PARAMETER[\"central_meridian\",-102.0],PARAMETER[\"standard_parallel_1\",17.5],PARAMETER[\"standard_parallel_2\",29.5],PARAMETER[\"latitude_of_origin\",12.0],UNIT[\"Meter\",1.0]]"
  }
 },
 "fullExtent": {
  "xmin": 1054033.53610002,
  "ymin": 319145.6816790072,
  "xmax": 4082998.1855434477,
  "ymax": 2349617.3716,
  "spatialReference": {
   "wkt": "PROJCS[\"Lambert_Conformal_Conic_2SP\",GEOGCS[\"GCS_WGS_1984\",DATUM[\"D_WGS_1984\",SPHEROID[\"WGS_1984\",6378137.0,298.257223563]],PRIMEM[\"Greenwich\",0.0],UNIT[\"Degree\",0.0174532925199433]],PROJECTION[\"Lambert_Conformal_Conic\"],PARAMETER[\"false_easting\",2500000.0],PARAMETER[\"false_northing\",0.0],PARAMETER[\"central_meridian\",-102.0],PARAMETER[\"standard_parallel_1\",17.5],PARAMETER[\"standard_parallel_2\",29.5],PARAMETER[\"latitude_of_origin\",12.0],UNIT[\"Meter\",1.0]]"
  }
 },
 "pixelSizeX": 4.9837432469300476,
 "pixelSizeY": 4.9837432469300476,
 "bandCount": 1,
 "pixelType": "U8",
 "minPixelSize": 0,
 "maxPixelSize": 0,
 "copyrightText": "",
 "serviceDataType": "esriImageServiceDataTypeGeneric",
 "minValues": [
  1
 ],
 "maxValues": [
  17
 ],
 "meanValues": [
  8.62288351616601
 ],
 "stdvValues": [
  4.5419066290432015
 ],
 "objectIdField": "",
 "fields": [],
 "capabilities": "Image,Metadata,Mensuration",
 "defaultMosaicMethod": "Center",
 "allowedMosaicMethods": "",
 "sortField": "",
 "sortValue": null,
 "mosaicOperator": "First",
 "defaultCompressionQuality": 75,
 "defaultResamplingMethod": "Bilinear",
 "maxImageHeight": 4100,
 "maxImageWidth": 15000,
 "allowRasterFunction": true,
 "rasterFunctionInfos": [],
 "rasterTypeInfos": [
  {
   "name": "Raster Dataset",
   "description": "Supports all ArcGIS Raster Datasets",
   "help": ""
  }
 ],
 "mensurationCapabilities": "Basic",
 "hasHistograms": true,
 "hasColormap": false,
 "hasRasterAttributeTable": true,
 "minScale": 0,
 "maxScale": 0,
 "exportTilesAllowed": false,
 "hasMultidimensions": false,
 "supportsStatistics": false,
 "supportsAdvancedQueries": false,
 "editFieldsInfo": null,
 "ownershipBasedAccessControlForRasters": null,
 "allowComputeTiePoints": false,
 "useStandardizedQueries": true,
 "spatialReference": {
  "wkt": "PROJCS[\"Lambert_Conformal_Conic_2SP\",GEOGCS[\"GCS_WGS_1984\",DATUM[\"D_WGS_1984\",SPHEROID[\"WGS_1984\",6378137.0,298.257223563]],PRIMEM[\"Greenwich\",0.0],UNIT[\"Degree\",0.0174532925199433]],PROJECTION[\"Lambert_Conformal_Conic\"],PARAMETER[\"false_easting\",2500000.0],PARAMETER[\"false_northing\",0.0],PARAMETER[\"central_meridian\",-102.0],PARAMETER[\"standard_parallel_1\",17.5],PARAMETER[\"standard_parallel_2\",29.5],PARAMETER[\"latitude_of_origin\",12.0],UNIT[\"Meter\",1.0]]"
 }
}
