View In:
ArcGIS JavaScript
ArcGIS.com Map
Google Earth
ArcMap
View Footprint In:
ArcGIS.com Map
Service Description:
Name: APLICACIONES/MEX_RE_2015_17clases
Description: APLICACIONES/MEX_RE_2015_17clases
Single Fused Map Cache: false
Extent:
XMin: 1054033.53610002
YMin: 319145.6816790072
XMax: 4082998.1855434477
YMax: 2349617.3716
Spatial Reference: PROJCS["Lambert_Conformal_Conic_2SP",GEOGCS["GCS_WGS_1984",DATUM["D_WGS_1984",SPHEROID["WGS_1984",6378137.0,298.257223563]],PRIMEM["Greenwich",0.0],UNIT["Degree",0.0174532925199433]],PROJECTION["Lambert_Conformal_Conic"],PARAMETER["false_easting",2500000.0],PARAMETER["false_northing",0.0],PARAMETER["central_meridian",-102.0],PARAMETER["standard_parallel_1",17.5],PARAMETER["standard_parallel_2",29.5],PARAMETER["latitude_of_origin",12.0],UNIT["Meter",1.0]]
Initial Extent:
XMin: 1054033.53610002
YMin: 319145.6816790072
XMax: 4082998.1855434477
YMax: 2349617.3716
Spatial Reference: PROJCS["Lambert_Conformal_Conic_2SP",GEOGCS["GCS_WGS_1984",DATUM["D_WGS_1984",SPHEROID["WGS_1984",6378137.0,298.257223563]],PRIMEM["Greenwich",0.0],UNIT["Degree",0.0174532925199433]],PROJECTION["Lambert_Conformal_Conic"],PARAMETER["false_easting",2500000.0],PARAMETER["false_northing",0.0],PARAMETER["central_meridian",-102.0],PARAMETER["standard_parallel_1",17.5],PARAMETER["standard_parallel_2",29.5],PARAMETER["latitude_of_origin",12.0],UNIT["Meter",1.0]]
Full Extent:
XMin: 1054033.53610002
YMin: 319145.6816790072
XMax: 4082998.1855434477
YMax: 2349617.3716
Spatial Reference: PROJCS["Lambert_Conformal_Conic_2SP",GEOGCS["GCS_WGS_1984",DATUM["D_WGS_1984",SPHEROID["WGS_1984",6378137.0,298.257223563]],PRIMEM["Greenwich",0.0],UNIT["Degree",0.0174532925199433]],PROJECTION["Lambert_Conformal_Conic"],PARAMETER["false_easting",2500000.0],PARAMETER["false_northing",0.0],PARAMETER["central_meridian",-102.0],PARAMETER["standard_parallel_1",17.5],PARAMETER["standard_parallel_2",29.5],PARAMETER["latitude_of_origin",12.0],UNIT["Meter",1.0]]
Pixel Size X: 4.9837432469300476
Pixel Size Y: 4.9837432469300476
Band Count: 1
Pixel Type: U8
RasterFunction Infos: N/A
Mensuration Capabilities: Basic
Has Histograms: true
Has Colormap: false
Has Multi Dimensions : false
Rendering Rule:
Min Scale: 0
Max Scale: 0
Copyright Text:
Service Data Type: esriImageServiceDataTypeGeneric
Min Values: 1
Max Values: 17
Mean Values: 8.62288351616601
Standard Deviation Values: 4.5419066290432015
Object ID Field:
Fields:
None
Default Mosaic Method: Center
Allowed Mosaic Methods:
SortField:
SortValue: null
Mosaic Operator: First
Default Compression Quality: 75
Default Resampling Method: Bilinear
Max Record Count: null
Max Image Height: 4100
Max Image Width: 15000
Max Download Image Count: null
Max Mosaic Image Count: null
Allow Raster Function: true
Allow Compute TiePoints: false
Supports Statistics: false
Supports Advanced Queries: false
Use StandardizedQueries: true
Raster Type Infos:
Name: Raster Dataset
Description: Supports all ArcGIS Raster Datasets
Help:
Has Raster Attribute Table: true
Edit Fields Info: null
Ownership Based AccessControl For Rasters: null
Child Resources:
Info
Raster Attribute Table
Histograms
Key Properties
Legend
MultiDimensionalInfo
rasterFunctionInfos
Supported Operations:
Export Image
Identify
Measure
Compute Histograms
Get Samples
Compute Class Statistics